BEGIN:VCALENDAR
VERSION:2.0
METHOD:PUBLISH
BEGIN:VEVENT
DTSTART:20251002T160000Z
DTEND:20251004T210000Z
LOCATION:Martinez, CA 94553
TRANSP: OPAQUE
SEQUENCE:0
UID:
DTSTAMP:20260419T054020Z
SUMMARY:Estate Sale in Martinez Ca, by Horizons LLC. Saturday 50% off
DESCRIPTION:Estate Sale in Martinez Ca, by Horizons LLC. Saturday 50% off Horizons Estate Sales LLC 
UID:1776598820
STREET-ADDRESS:See website
POSTAL-CODE:94553
LOCALITY:Martinez
REGION:ABBREV=CA
COUNTRY:ABBREV=US;ABBREV=USA:United States
URL;TYPE=Event Listing:https://estatesales.org/estate-sales/ca/martinez/94553/estate-sale-in-martinez-ca-2404583
PRIORITY:1
CLASS:PUBLIC
SEQUENCE:0
STATUS:CONFIRMED
TRANSP:OPAQUE
END:VEVENT
END:VCALENDAR
