BEGIN:VCALENDAR
VERSION:2.0
METHOD:PUBLISH
BEGIN:VEVENT
DTSTART:20251002T150000Z
DTEND:20251004T200000Z
LOCATION:Denver, CO 80206
TRANSP: OPAQUE
SEQUENCE:0
UID:
DTSTAMP:20260419T061833Z
SUMMARY:Grasons of SW Denver presents: Charming in Cherry Creek!
DESCRIPTION:Grasons of SW Denver presents: Charming in Cherry Creek! Grasons of Southwest Denver, CO 
UID:1776601113
STREET-ADDRESS:See website
POSTAL-CODE:80206
LOCALITY:Denver
REGION:ABBREV=CO
COUNTRY:ABBREV=US;ABBREV=USA:United States
URL;TYPE=Event Listing:https://estatesales.org/estate-sales/co/denver/80206/grasons-of-sw-denver-presents-2403924
PRIORITY:1
CLASS:PUBLIC
SEQUENCE:0
STATUS:CONFIRMED
TRANSP:OPAQUE
END:VEVENT
END:VCALENDAR
