BEGIN:VCALENDAR
VERSION:2.0
METHOD:PUBLISH
BEGIN:VEVENT
DTSTART:20251002T160000Z
DTEND:20251002T220000Z
LOCATION:Riverside, CA 92506
TRANSP: OPAQUE
SEQUENCE:0
UID:
DTSTAMP:20260423T062235Z
SUMMARY:ONE DAY! FUN DAY! BLOWOUT SALE!
DESCRIPTION:ONE DAY! FUN DAY! BLOWOUT SALE! All Treasures Estate Sales 
UID:1776946955
STREET-ADDRESS:See website
POSTAL-CODE:92506
LOCALITY:Riverside
REGION:ABBREV=CA
COUNTRY:ABBREV=US;ABBREV=USA:United States
URL;TYPE=Event Listing:https://estatesales.org/estate-sales/ca/riverside/92506/one-day-fun-day-blowout-2404573
PRIORITY:1
CLASS:PUBLIC
SEQUENCE:0
STATUS:CONFIRMED
TRANSP:OPAQUE
END:VEVENT
END:VCALENDAR
