BEGIN:VCALENDAR
VERSION:2.0
METHOD:PUBLISH
BEGIN:VEVENT
DTSTART:20251002T140000Z
DTEND:20251004T210000Z
LOCATION:Colorado Springs, CO 80921
TRANSP: OPAQUE
SEQUENCE:0
UID:
DTSTAMP:20260424T114216Z
SUMMARY:Roller Coaster Rd. Estate Sale
DESCRIPTION:Roller Coaster Rd. Estate Sale Vintage Estate Company 
UID:1777052536
STREET-ADDRESS:See website
POSTAL-CODE:80921
LOCALITY:Colorado Springs
REGION:ABBREV=CO
COUNTRY:ABBREV=US;ABBREV=USA:United States
URL;TYPE=Event Listing:https://estatesales.org/estate-sales/co/colorado-springs/80921/roller-coaster-rd-estate-sale-2404634
PRIORITY:1
CLASS:PUBLIC
SEQUENCE:0
STATUS:CONFIRMED
TRANSP:OPAQUE
END:VEVENT
END:VCALENDAR
