BEGIN:VCALENDAR
VERSION:2.0
METHOD:PUBLISH
BEGIN:VEVENT
DTSTART:20251002T220000Z
DTEND:20251004T200000Z
LOCATION:Edmond, OK 73025
TRANSP: OPAQUE
SEQUENCE:0
UID:
DTSTAMP:20260423T192956Z
SUMMARY:Estate Sale - TONS of good finds!!
DESCRIPTION:Estate Sale - TONS of good finds!! Clutter Free LLC 
UID:1776994196
STREET-ADDRESS:See website
POSTAL-CODE:73025
LOCALITY:Edmond
REGION:ABBREV=OK
COUNTRY:ABBREV=US;ABBREV=USA:United States
URL;TYPE=Event Listing:https://estatesales.org/estate-sales/ok/edmond/73025/estate-sale-tons-of-good-2404445
PRIORITY:1
CLASS:PUBLIC
SEQUENCE:0
STATUS:CONFIRMED
TRANSP:OPAQUE
END:VEVENT
END:VCALENDAR
