BEGIN:VCALENDAR
VERSION:2.0
METHOD:PUBLISH
BEGIN:VEVENT
DTSTART:20201002T170000Z
DTEND:20201004T210000Z
LOCATION:Capitola, CA 95010
TRANSP: OPAQUE
SEQUENCE:0
UID:
DTSTAMP:20260421T115630Z
SUMMARY:Capitola estate sale
DESCRIPTION:Capitola estate sale A Move Made SImple 
UID:1776794190
STREET-ADDRESS:See website
POSTAL-CODE:95010
LOCALITY:Capitola
REGION:ABBREV=CA
COUNTRY:ABBREV=US;ABBREV=USA:United States
URL;TYPE=Event Listing:https://estatesales.org/estate-sales/ca/capitola-/95010/capitola-estate-sale-1830767
PRIORITY:1
CLASS:PUBLIC
SEQUENCE:0
STATUS:CONFIRMED
TRANSP:OPAQUE
END:VEVENT
END:VCALENDAR
