BEGIN:VCALENDAR
VERSION:2.0
METHOD:PUBLISH
BEGIN:VEVENT
DTSTART:20191002T150000Z
DTEND:20191005T210000Z
LOCATION:Elkhart, TX 75839
TRANSP: OPAQUE
SEQUENCE:0
UID:
DTSTAMP:20260424T214954Z
SUMMARY:Eclectic Lakeside Estate Sale in Elkhart, TX
DESCRIPTION:Eclectic Lakeside Estate Sale in Elkhart, TX Lakeside Estate Sales, CGL LLC. 
UID:1777088994
STREET-ADDRESS:See website
POSTAL-CODE:75839
LOCALITY:Elkhart
REGION:ABBREV=TX
COUNTRY:ABBREV=US;ABBREV=USA:United States
URL;TYPE=Event Listing:https://estatesales.org/estate-sales/tx/elkhart/75839/eclectic-lakeside-estate-sale-in-1716405
PRIORITY:1
CLASS:PUBLIC
SEQUENCE:0
STATUS:CONFIRMED
TRANSP:OPAQUE
END:VEVENT
END:VCALENDAR
