BEGIN:VCALENDAR
VERSION:2.0
METHOD:PUBLISH
BEGIN:VEVENT
DTSTART:20151002T150000Z
DTEND:20151004T190000Z
LOCATION:South Milwaukee, WI 53172
TRANSP: OPAQUE
SEQUENCE:0
UID:
DTSTAMP:20260420T030215Z
SUMMARY:TONS O' FUN IN SOUTH MILWAUKEE!!!
DESCRIPTION:TONS O' FUN IN SOUTH MILWAUKEE!!! All in the Family Estate Sales 
UID:1776675735
STREET-ADDRESS:See website
POSTAL-CODE:53172
LOCALITY:South Milwaukee
REGION:ABBREV=WI
COUNTRY:ABBREV=US;ABBREV=USA:United States
URL;TYPE=Event Listing:https://estatesales.org/estate-sales/wi/south-milwaukee/53172/tons-o-fun-in-south-684995
PRIORITY:1
CLASS:PUBLIC
SEQUENCE:0
STATUS:CONFIRMED
TRANSP:OPAQUE
END:VEVENT
END:VCALENDAR
