BEGIN:VCALENDAR
VERSION:2.0
METHOD:PUBLISH
BEGIN:VEVENT
DTSTART:20251001T150000Z
DTEND:20251005T200000Z
LOCATION:Oklahoma City, OK 73116
TRANSP: OPAQUE
SEQUENCE:0
UID:
DTSTAMP:20260423T192956Z
SUMMARY:GYM LIQUIDATION SALE
DESCRIPTION:GYM LIQUIDATION SALE Clutter Free LLC 
UID:1776994196
STREET-ADDRESS:See website
POSTAL-CODE:73116
LOCALITY:Oklahoma City
REGION:ABBREV=OK
COUNTRY:ABBREV=US;ABBREV=USA:United States
URL;TYPE=Event Listing:https://estatesales.org/estate-sales/ok/oklahoma-city/73116/gym-liquidation-sale-2404443
PRIORITY:1
CLASS:PUBLIC
SEQUENCE:0
STATUS:CONFIRMED
TRANSP:OPAQUE
END:VEVENT
END:VCALENDAR
