BEGIN:VCALENDAR
VERSION:2.0
METHOD:PUBLISH
BEGIN:VEVENT
DTSTART:20221001T140000Z
DTEND:20221001T180000Z
LOCATION:Yorkville, IL 60560
TRANSP: OPAQUE
SEQUENCE:0
UID:
DTSTAMP:20260425T145709Z
SUMMARY:Grasons Co of NW Chicagoland Yorkville Bring your own box/bin $10.00 blowout
DESCRIPTION:Grasons Co of NW Chicagoland Yorkville Bring your own box/bin $10.00 blowout Grasons Co of NW Chicagoland 
UID:1777150629
STREET-ADDRESS:See website
POSTAL-CODE:60560
LOCALITY:Yorkville
REGION:ABBREV=IL
COUNTRY:ABBREV=US;ABBREV=USA:United States
URL;TYPE=Event Listing:https://estatesales.org/estate-sales/il/yorkville/60560/grasons-co-of-nw-chicagoland-2100935
PRIORITY:1
CLASS:PUBLIC
SEQUENCE:0
STATUS:CONFIRMED
TRANSP:OPAQUE
END:VEVENT
END:VCALENDAR
