BEGIN:VCALENDAR
VERSION:2.0
METHOD:PUBLISH
BEGIN:VEVENT
DTSTART:20211001T150000Z
DTEND:20211002T230000Z
LOCATION:Las Vegas, NV 89123
TRANSP: OPAQUE
SEQUENCE:0
UID:
DTSTAMP:20260420T061053Z
SUMMARY:Asian Decor and more...
DESCRIPTION:Asian Decor and more... JPS Estate Liquidation, LLC 
UID:1776687053
STREET-ADDRESS:See website
POSTAL-CODE:89123
LOCALITY:Las Vegas
REGION:ABBREV=NV
COUNTRY:ABBREV=US;ABBREV=USA:United States
URL;TYPE=Event Listing:https://estatesales.org/estate-sales/nv/las-vegas/89123/asian-decor-and-more-1956809
PRIORITY:1
CLASS:PUBLIC
SEQUENCE:0
STATUS:CONFIRMED
TRANSP:OPAQUE
END:VEVENT
END:VCALENDAR
