BEGIN:VCALENDAR
VERSION:2.0
METHOD:PUBLISH
BEGIN:VEVENT
DTSTART:20151001T160000Z
DTEND:20151001T220000Z
LOCATION:Bakersfield, CA 93307
TRANSP: OPAQUE
SEQUENCE:0
UID:
DTSTAMP:20260425T212952Z
SUMMARY:Need furniture? Got furniture! 
DESCRIPTION:Need furniture? Got furniture!  A Masterful Job Estate Sales 
UID:1777174192
STREET-ADDRESS:See website
POSTAL-CODE:93307
LOCALITY:Bakersfield
REGION:ABBREV=CA
COUNTRY:ABBREV=US;ABBREV=USA:United States
URL;TYPE=Event Listing:https://estatesales.org/estate-sales/ca/bakersfield/93307/need-furniture-got-furniture-689829
PRIORITY:1
CLASS:PUBLIC
SEQUENCE:0
STATUS:CONFIRMED
TRANSP:OPAQUE
END:VEVENT
END:VCALENDAR
