BEGIN:VCALENDAR
VERSION:2.0
METHOD:PUBLISH
BEGIN:VEVENT
DTSTART:20230930T150000Z
DTEND:20231001T210000Z
LOCATION:Onaway, MI 49765
TRANSP: OPAQUE
SEQUENCE:0
UID:
DTSTAMP:20260423T233327Z
SUMMARY:Onaway Estate Sale - Sponsored Event 
DESCRIPTION:Onaway Estate Sale - Sponsored Event  Black River Estate Sales 
UID:1777008807
STREET-ADDRESS:See website
POSTAL-CODE:49765
LOCALITY:Onaway
REGION:ABBREV=MI
COUNTRY:ABBREV=US;ABBREV=USA:United States
URL;TYPE=Event Listing:https://estatesales.org/estate-sales/mi/onaway/49765/onaway-estate-sale-sponsored-event-2236795
PRIORITY:1
CLASS:PUBLIC
SEQUENCE:0
STATUS:CONFIRMED
TRANSP:OPAQUE
END:VEVENT
END:VCALENDAR
