BEGIN:VCALENDAR
VERSION:2.0
METHOD:PUBLISH
BEGIN:VEVENT
DTSTART:20230930T140000Z
DTEND:20231001T190000Z
LOCATION:Havertown, PA 19083
TRANSP: OPAQUE
SEQUENCE:0
UID:
DTSTAMP:20260425T171314Z
SUMMARY:JOIN US FOR AN ESTATE SALE EVENT LIKE NO OTHER - MULTIPLE ESTATES ALL UNDER 1 ROOF!
DESCRIPTION:JOIN US FOR AN ESTATE SALE EVENT LIKE NO OTHER - MULTIPLE ESTATES ALL UNDER 1 ROOF! Great Estates by Sue Odell 
UID:1777158794
STREET-ADDRESS:See website
POSTAL-CODE:19083
LOCALITY:Havertown
REGION:ABBREV=PA
COUNTRY:ABBREV=US;ABBREV=USA:United States
URL;TYPE=Event Listing:https://estatesales.org/estate-sales/pa/havertown/19083/join-us-for-an-estate-2229865
PRIORITY:1
CLASS:PUBLIC
SEQUENCE:0
STATUS:CONFIRMED
TRANSP:OPAQUE
END:VEVENT
END:VCALENDAR
