BEGIN:VCALENDAR
VERSION:2.0
METHOD:PUBLISH
BEGIN:VEVENT
DTSTART:20220930T160000Z
DTEND:20221001T220000Z
LOCATION:Sacramento, CA 95831
TRANSP: OPAQUE
SEQUENCE:0
UID:
DTSTAMP:20260425T174316Z
SUMMARY:1/2 Saturday Lovely Pocket Area Estate Sale
DESCRIPTION:1/2 Saturday Lovely Pocket Area Estate Sale Sacramento Estate Sales Services 
UID:1777160596
STREET-ADDRESS:See website
POSTAL-CODE:95831
LOCALITY:Sacramento
REGION:ABBREV=CA
COUNTRY:ABBREV=US;ABBREV=USA:United States
URL;TYPE=Event Listing:https://estatesales.org/estate-sales/ca/sacramento/95831/12-saturday-lovely-pocket-area-2101971
PRIORITY:1
CLASS:PUBLIC
SEQUENCE:0
STATUS:CONFIRMED
TRANSP:OPAQUE
END:VEVENT
END:VCALENDAR
