BEGIN:VCALENDAR
VERSION:2.0
METHOD:PUBLISH
BEGIN:VEVENT
DTSTART:20160930T140000Z
DTEND:20161003T193000Z
LOCATION:Ridgewood, NJ 07450
TRANSP: OPAQUE
SEQUENCE:0
UID:
DTSTAMP:20260424T105000Z
SUMMARY:Pink Dog offers 50 percent off many items in Ridgewood
DESCRIPTION:Pink Dog offers 50 percent off many items in Ridgewood Pink Dog Estate and Moving Sales, LLC 
UID:1777049400
STREET-ADDRESS:See website
POSTAL-CODE:07450
LOCALITY:Ridgewood
REGION:ABBREV=NJ
COUNTRY:ABBREV=US;ABBREV=USA:United States
URL;TYPE=Event Listing:https://estatesales.org/estate-sales/nj/ridgewood/07450/pink-dog-offers-50-percent-969079
PRIORITY:1
CLASS:PUBLIC
SEQUENCE:0
STATUS:CONFIRMED
TRANSP:OPAQUE
END:VEVENT
END:VCALENDAR
