BEGIN:VCALENDAR
VERSION:2.0
METHOD:PUBLISH
BEGIN:VEVENT
DTSTART:20240929T140000Z
DTEND:20240929T183000Z
LOCATION:New Hyde Park, NY 11040
TRANSP: OPAQUE
SEQUENCE:0
UID:
DTSTAMP:20260420T002751Z
SUMMARY:Autumn Deals in New Hyde Park Estate Sale by Caring Transitions - Sun. 9/29
DESCRIPTION:Autumn Deals in New Hyde Park Estate Sale by Caring Transitions - Sun. 9/29 Caring Transitions of Great Neck, NY 
UID:1776666471
STREET-ADDRESS:See website
POSTAL-CODE:11040
LOCALITY:New Hyde Park
REGION:ABBREV=NY
COUNTRY:ABBREV=US;ABBREV=USA:United States
URL;TYPE=Event Listing:https://estatesales.org/estate-sales/ny/new-hyde-park/11040/autumn-deals-in-new-hyde-2341678
PRIORITY:1
CLASS:PUBLIC
SEQUENCE:0
STATUS:CONFIRMED
TRANSP:OPAQUE
END:VEVENT
END:VCALENDAR
