BEGIN:VCALENDAR
VERSION:2.0
METHOD:PUBLISH
BEGIN:VEVENT
DTSTART:20210929T210000Z
DTEND:20210930T045900Z
LOCATION:Cedar Lake, IN 46303
TRANSP: OPAQUE
SEQUENCE:0
UID:
DTSTAMP:20260419T070252Z
SUMMARY:2 Estate Homes Storage Wars LIVE Auction 21 Rooms
DESCRIPTION:2 Estate Homes Storage Wars LIVE Auction 21 Rooms Auction & Estates by Diana Cook 
UID:1776603772
STREET-ADDRESS:See website
POSTAL-CODE:46303
LOCALITY:Cedar Lake
REGION:ABBREV=IN
COUNTRY:ABBREV=US;ABBREV=USA:United States
URL;TYPE=Event Listing:https://estatesales.org/estate-sales/in/cedar-lake/46303/2-estate-homes-storage-wars-1961079
PRIORITY:1
CLASS:PUBLIC
SEQUENCE:0
STATUS:CONFIRMED
TRANSP:OPAQUE
END:VEVENT
END:VCALENDAR
