BEGIN:VCALENDAR
VERSION:2.0
METHOD:PUBLISH
BEGIN:VEVENT
DTSTART:20120929T170000Z
DTEND:20120930T220000Z
LOCATION:Palo Alto, CA 94301
TRANSP: OPAQUE
SEQUENCE:0
UID:
DTSTAMP:20260424T121809Z
SUMMARY:TOTAL LIQUIDATION IN PALO ALTO
DESCRIPTION:TOTAL LIQUIDATION IN PALO ALTO S&S ESTATE SALES 
UID:1777054689
STREET-ADDRESS:See website
POSTAL-CODE:94301
LOCALITY:Palo Alto
REGION:ABBREV=CA
COUNTRY:ABBREV=US;ABBREV=USA:United States
URL;TYPE=Event Listing:https://estatesales.org/estate-sales/ca/palo-alto/94301/total-liquidation-in-palo-alto-218988
PRIORITY:1
CLASS:PUBLIC
SEQUENCE:0
STATUS:CONFIRMED
TRANSP:OPAQUE
END:VEVENT
END:VCALENDAR
