BEGIN:VCALENDAR
VERSION:2.0
METHOD:PUBLISH
BEGIN:VEVENT
DTSTART:20240928T140000Z
DTEND:20240929T160000Z
LOCATION:Riverton, NJ 08077
TRANSP: OPAQUE
SEQUENCE:0
UID:
DTSTAMP:20260419T194934Z
SUMMARY:50% OFF Indoor Cinnaminson Estate Sale
DESCRIPTION:50% OFF Indoor Cinnaminson Estate Sale Saving Grace Estate Sales 
UID:1776649774
STREET-ADDRESS:See website
POSTAL-CODE:08077
LOCALITY:Riverton
REGION:ABBREV=NJ
COUNTRY:ABBREV=US;ABBREV=USA:United States
URL;TYPE=Event Listing:https://estatesales.org/estate-sales/nj/riverton/08077/50-off-indoor-cinnaminson-estate-2342020
PRIORITY:1
CLASS:PUBLIC
SEQUENCE:0
STATUS:CONFIRMED
TRANSP:OPAQUE
END:VEVENT
END:VCALENDAR
