BEGIN:VCALENDAR
VERSION:2.0
METHOD:PUBLISH
BEGIN:VEVENT
DTSTART:20240928T140000Z
DTEND:20240929T190000Z
LOCATION:Washington, DC 20024
TRANSP: OPAQUE
SEQUENCE:0
UID:
DTSTAMP:20260421T163013Z
SUMMARY:Chic Condo Estate Sale
DESCRIPTION:Chic Condo Estate Sale Lasting Treasures Estate Sales 
UID:1776810613
STREET-ADDRESS:See website
POSTAL-CODE:20024
LOCALITY:Washington
REGION:ABBREV=DC
COUNTRY:ABBREV=US;ABBREV=USA:United States
URL;TYPE=Event Listing:https://estatesales.org/estate-sales/dc/washington/20024/chic-condo-estate-sale-2339210
PRIORITY:1
CLASS:PUBLIC
SEQUENCE:0
STATUS:CONFIRMED
TRANSP:OPAQUE
END:VEVENT
END:VCALENDAR
