BEGIN:VCALENDAR
VERSION:2.0
METHOD:PUBLISH
BEGIN:VEVENT
DTSTART:20240928T140000Z
DTEND:20240928T183000Z
LOCATION:Levittown, NY 11756
TRANSP: OPAQUE
SEQUENCE:0
UID:
DTSTAMP:20260420T002752Z
SUMMARY:Autumn Bargains in Levittown Estate Sale by Caring Transitions - Sat. 9/28!
DESCRIPTION:Autumn Bargains in Levittown Estate Sale by Caring Transitions - Sat. 9/28! Caring Transitions of Great Neck, NY 
UID:1776666472
STREET-ADDRESS:See website
POSTAL-CODE:11756
LOCALITY:Levittown
REGION:ABBREV=NY
COUNTRY:ABBREV=US;ABBREV=USA:United States
URL;TYPE=Event Listing:https://estatesales.org/estate-sales/ny/levittown/11756/autumn-bargains-in-levittown-estate-2341443
PRIORITY:1
CLASS:PUBLIC
SEQUENCE:0
STATUS:CONFIRMED
TRANSP:OPAQUE
END:VEVENT
END:VCALENDAR
