BEGIN:VCALENDAR
VERSION:2.0
METHOD:PUBLISH
BEGIN:VEVENT
DTSTART:20190928T150000Z
DTEND:20190929T230000Z
LOCATION:Wheat Ridge, CO 80033
TRANSP: OPAQUE
SEQUENCE:0
UID:
DTSTAMP:20260419T113747Z
SUMMARY:Living estate sale. 30 year collection must go.
DESCRIPTION:Living estate sale. 30 year collection must go. Fistell's Fine Art and Collectibles  
UID:1776620267
STREET-ADDRESS:See website
POSTAL-CODE:80033
LOCALITY:Wheat Ridge
REGION:ABBREV=CO
COUNTRY:ABBREV=US;ABBREV=USA:United States
URL;TYPE=Event Listing:https://estatesales.org/estate-sales/co/wheat-ridge/80033/living-estate-sale-30-year-1721239
PRIORITY:1
CLASS:PUBLIC
SEQUENCE:0
STATUS:CONFIRMED
TRANSP:OPAQUE
END:VEVENT
END:VCALENDAR
