BEGIN:VCALENDAR
VERSION:2.0
METHOD:PUBLISH
BEGIN:VEVENT
DTSTART:20190928T160000Z
DTEND:20190929T230000Z
LOCATION:West Covina, CA 91791
TRANSP: OPAQUE
SEQUENCE:0
UID:
DTSTAMP:20260420T021103Z
SUMMARY:Packed Estate and Garage. Unique Collectons, Art, Antiques, Asian, Mid Century, Vintage To Current Items
DESCRIPTION:Packed Estate and Garage. Unique Collectons, Art, Antiques, Asian, Mid Century, Vintage To Current Items Triumphant Estate Sales of Los Angeles 
UID:1776672663
STREET-ADDRESS:See website
POSTAL-CODE:91791
LOCALITY:West Covina
REGION:ABBREV=CA
COUNTRY:ABBREV=US;ABBREV=USA:United States
URL;TYPE=Event Listing:https://estatesales.org/estate-sales/ca/west-covina/91791/packed-estate-and-garage-unique-1720187
PRIORITY:1
CLASS:PUBLIC
SEQUENCE:0
STATUS:CONFIRMED
TRANSP:OPAQUE
END:VEVENT
END:VCALENDAR
