BEGIN:VCALENDAR
VERSION:2.0
METHOD:PUBLISH
BEGIN:VEVENT
DTSTART:20160928T170000Z
DTEND:20161002T000000Z
LOCATION:Broomfield, CO 80021
TRANSP: OPAQUE
SEQUENCE:0
UID:
DTSTAMP:20260420T152637Z
SUMMARY:Digger does it again
DESCRIPTION:Digger does it again Diggers Estate Treasures 
UID:1776720397
STREET-ADDRESS:See website
POSTAL-CODE:80021
LOCALITY:Broomfield
REGION:ABBREV=CO
COUNTRY:ABBREV=US;ABBREV=USA:United States
URL;TYPE=Event Listing:https://estatesales.org/estate-sales/co/broomfield/80021/digger-does-it-again-992141
PRIORITY:1
CLASS:PUBLIC
SEQUENCE:0
STATUS:CONFIRMED
TRANSP:OPAQUE
END:VEVENT
END:VCALENDAR
