BEGIN:VCALENDAR
VERSION:2.0
METHOD:PUBLISH
BEGIN:VEVENT
DTSTART:20130928T130000Z
DTEND:20130929T170000Z
LOCATION:Ogunquit, ME 03907
TRANSP: OPAQUE
SEQUENCE:0
UID:
DTSTAMP:20260419T170053Z
SUMMARY:Outstanding Ogunquit Sales Event!  Don't Miss It!
DESCRIPTION:Outstanding Ogunquit Sales Event!  Don't Miss It! Asset and Estate Liquidators, LLC 
UID:1776639653
STREET-ADDRESS:See website
POSTAL-CODE:03907
LOCALITY:Ogunquit
REGION:ABBREV=ME
COUNTRY:ABBREV=US;ABBREV=USA:United States
URL;TYPE=Event Listing:https://estatesales.org/estate-sales/me/ogunquit/03907/outstanding-ogunquit-sales-event-dont-315972
PRIORITY:1
CLASS:PUBLIC
SEQUENCE:0
STATUS:CONFIRMED
TRANSP:OPAQUE
END:VEVENT
END:VCALENDAR
