BEGIN:VCALENDAR
VERSION:2.0
METHOD:PUBLISH
BEGIN:VEVENT
DTSTART:20250927T130000Z
DTEND:20250928T190000Z
LOCATION:Miami, FL 33173
TRANSP: OPAQUE
SEQUENCE:0
UID:
DTSTAMP:20260425T122455Z
SUMMARY:Sunset Estate Sale
DESCRIPTION:Sunset Estate Sale Barreto Estate Sales 
UID:1777141495
STREET-ADDRESS:See website
POSTAL-CODE:33173
LOCALITY:Miami
REGION:ABBREV=FL
COUNTRY:ABBREV=US;ABBREV=USA:United States
URL;TYPE=Event Listing:https://estatesales.org/estate-sales/fl/miami/33173/sunset-estate-sale-2401864
PRIORITY:1
CLASS:PUBLIC
SEQUENCE:0
STATUS:CONFIRMED
TRANSP:OPAQUE
END:VEVENT
END:VCALENDAR
