BEGIN:VCALENDAR
VERSION:2.0
METHOD:PUBLISH
BEGIN:VEVENT
DTSTART:20250927T150000Z
DTEND:20250928T210000Z
LOCATION:Tucson, AZ 85710
TRANSP: OPAQUE
SEQUENCE:0
UID:
DTSTAMP:20260423T205829Z
SUMMARY:Grasons 50% off - Sunday Sept 28 - Eastside Tucson (E 22nd St/ S Camino Seco)
DESCRIPTION:Grasons 50% off - Sunday Sept 28 - Eastside Tucson (E 22nd St/ S Camino Seco) Grasons Co of Southern Arizona 
UID:1776999509
STREET-ADDRESS:See website
POSTAL-CODE:85710
LOCALITY:Tucson
REGION:ABBREV=AZ
COUNTRY:ABBREV=US;ABBREV=USA:United States
URL;TYPE=Event Listing:https://estatesales.org/estate-sales/az/tucson/85710/grasons-50-off-sunday-sept-2402837
PRIORITY:1
CLASS:PUBLIC
SEQUENCE:0
STATUS:CONFIRMED
TRANSP:OPAQUE
END:VEVENT
END:VCALENDAR
