BEGIN:VCALENDAR
VERSION:2.0
METHOD:PUBLISH
BEGIN:VEVENT
DTSTART:20250927T150000Z
DTEND:20250928T200000Z
LOCATION:Tempe, AZ 85282
TRANSP: OPAQUE
SEQUENCE:0
UID:
DTSTAMP:20260423T071811Z
SUMMARY:50%+ OFF Tempe Treasures and Pickers Sale by Grasons Estate Sales
DESCRIPTION:50%+ OFF Tempe Treasures and Pickers Sale by Grasons Estate Sales Grasons of Scottsdale, AZ 
UID:1776950291
STREET-ADDRESS:See website
POSTAL-CODE:85282
LOCALITY:Tempe
REGION:ABBREV=AZ
COUNTRY:ABBREV=US;ABBREV=USA:United States
URL;TYPE=Event Listing:https://estatesales.org/estate-sales/az/tempe/85282/tempe-treasures-and-pickers-sale-2403570
PRIORITY:1
CLASS:PUBLIC
SEQUENCE:0
STATUS:CONFIRMED
TRANSP:OPAQUE
END:VEVENT
END:VCALENDAR
