BEGIN:VCALENDAR
VERSION:2.0
METHOD:PUBLISH
BEGIN:VEVENT
DTSTART:20240927T160000Z
DTEND:20240929T190000Z
LOCATION:Littleton, CO 80128
TRANSP: OPAQUE
SEQUENCE:0
UID:
DTSTAMP:20260420T005450Z
SUMMARY:Collectors Paradise @ Littleton estate sale
DESCRIPTION:Collectors Paradise @ Littleton estate sale American Estate Sales 
UID:1776668090
STREET-ADDRESS:See website
POSTAL-CODE:80128
LOCALITY:Littleton
REGION:ABBREV=CO
COUNTRY:ABBREV=US;ABBREV=USA:United States
URL;TYPE=Event Listing:https://estatesales.org/estate-sales/co/littleton/80128/collectors-paradise-littleton-estate-sale-2341080
PRIORITY:1
CLASS:PUBLIC
SEQUENCE:0
STATUS:CONFIRMED
TRANSP:OPAQUE
END:VEVENT
END:VCALENDAR
