BEGIN:VCALENDAR
VERSION:2.0
METHOD:PUBLISH
BEGIN:VEVENT
DTSTART:20240927T140000Z
DTEND:20240928T210000Z
LOCATION:Appleton, WI 54914
TRANSP: OPAQUE
SEQUENCE:0
UID:
DTSTAMP:20260424T213710Z
SUMMARY:Appleton, ESTATE SALE BY THE " Estate Sale Squad". Friday Sept. 27, 9 to 5, SaturdaySept. 28, 9 to 4.
DESCRIPTION:Appleton, ESTATE SALE BY THE " Estate Sale Squad". Friday Sept. 27, 9 to 5, SaturdaySept. 28, 9 to 4. Estate Sale Squad LLC 
UID:1777088230
STREET-ADDRESS:See website
POSTAL-CODE:54914
LOCALITY:Appleton
REGION:ABBREV=WI
COUNTRY:ABBREV=US;ABBREV=USA:United States
URL;TYPE=Event Listing:https://estatesales.org/estate-sales/wi/appleton/54914/appleton-estate-sale-by-the-2341279
PRIORITY:1
CLASS:PUBLIC
SEQUENCE:0
STATUS:CONFIRMED
TRANSP:OPAQUE
END:VEVENT
END:VCALENDAR
