BEGIN:VCALENDAR
VERSION:2.0
METHOD:PUBLISH
BEGIN:VEVENT
DTSTART:20140927T160000Z
DTEND:20140929T190000Z
LOCATION:Southampton, NY 11968
TRANSP: OPAQUE
SEQUENCE:0
UID:
DTSTAMP:20260423T224647Z
SUMMARY:SPECTACULAR HISTORIC HOME IN SOUTHHAMPTON
DESCRIPTION:SPECTACULAR HISTORIC HOME IN SOUTHHAMPTON re.luxeHamptons 
UID:1777006007
STREET-ADDRESS:See website
POSTAL-CODE:11968
LOCALITY:Southampton
REGION:ABBREV=NY
COUNTRY:ABBREV=US;ABBREV=USA:United States
URL;TYPE=Event Listing:https://estatesales.org/estate-sales/ny/southampton/11968/spectacular-historic-home-in-southhampton-458502
PRIORITY:1
CLASS:PUBLIC
SEQUENCE:0
STATUS:CONFIRMED
TRANSP:OPAQUE
END:VEVENT
END:VCALENDAR
