BEGIN:VCALENDAR
VERSION:2.0
METHOD:PUBLISH
BEGIN:VEVENT
DTSTART:20130927T170000Z
DTEND:20130929T230000Z
LOCATION:Oakland, CA 94612
TRANSP: OPAQUE
SEQUENCE:0
UID:
DTSTAMP:20260424T121830Z
SUMMARY:Gigantic Estate Sale
DESCRIPTION:Gigantic Estate Sale S&S ESTATE SALES 
UID:1777054710
STREET-ADDRESS:See website
POSTAL-CODE:94612
LOCALITY:Oakland
REGION:ABBREV=CA
COUNTRY:ABBREV=US;ABBREV=USA:United States
URL;TYPE=Event Listing:https://estatesales.org/estate-sales/ca/oakland/94612/gigantic-estate-sale-327403
PRIORITY:1
CLASS:PUBLIC
SEQUENCE:0
STATUS:CONFIRMED
TRANSP:OPAQUE
END:VEVENT
END:VCALENDAR
