BEGIN:VCALENDAR
VERSION:2.0
METHOD:PUBLISH
BEGIN:VEVENT
DTSTART:20250926T170000Z
DTEND:20250928T200000Z
LOCATION:Marion, IA 52302
TRANSP: OPAQUE
SEQUENCE:0
UID:
DTSTAMP:20260422T084547Z
SUMMARY:Build a Better Home
DESCRIPTION:Build a Better Home White Lion Treasures 
UID:1776869147
STREET-ADDRESS:See website
POSTAL-CODE:52302
LOCALITY:Marion
REGION:ABBREV=IA
COUNTRY:ABBREV=US;ABBREV=USA:United States
URL;TYPE=Event Listing:https://estatesales.org/estate-sales/ia/marion/52302/build-a-better-home-2402305
PRIORITY:1
CLASS:PUBLIC
SEQUENCE:0
STATUS:CONFIRMED
TRANSP:OPAQUE
END:VEVENT
END:VCALENDAR
