BEGIN:VCALENDAR
VERSION:2.0
METHOD:PUBLISH
BEGIN:VEVENT
DTSTART:20250926T170000Z
DTEND:20250928T220000Z
LOCATION:Santa Clara, CA 95050
TRANSP: OPAQUE
SEQUENCE:0
UID:
DTSTAMP:20260425T064640Z
SUMMARY:Super Santa Clara Sale!
DESCRIPTION:Super Santa Clara Sale! Legacy Estate Liquidators LLC 
UID:1777121200
STREET-ADDRESS:See website
POSTAL-CODE:95050
LOCALITY:Santa Clara
REGION:ABBREV=CA
COUNTRY:ABBREV=US;ABBREV=USA:United States
URL;TYPE=Event Listing:https://estatesales.org/estate-sales/ca/santa-clara/95050/super-santa-clara-sale-2403751
PRIORITY:1
CLASS:PUBLIC
SEQUENCE:0
STATUS:CONFIRMED
TRANSP:OPAQUE
END:VEVENT
END:VCALENDAR
