BEGIN:VCALENDAR
VERSION:2.0
METHOD:PUBLISH
BEGIN:VEVENT
DTSTART:20250926T160000Z
DTEND:20250928T190000Z
LOCATION:Sonoma, CA 95476
TRANSP: OPAQUE
SEQUENCE:0
UID:
DTSTAMP:20260421T124126Z
SUMMARY:Performer's ~ Love of Asian & Contemporary Art Estate sale
DESCRIPTION:Performer's ~ Love of Asian & Contemporary Art Estate sale E Estates by Emily's ~ Consignment/Collective 
UID:1776796886
STREET-ADDRESS:See website
POSTAL-CODE:95476
LOCALITY:Sonoma
REGION:ABBREV=CA
COUNTRY:ABBREV=US;ABBREV=USA:United States
URL;TYPE=Event Listing:https://estatesales.org/estate-sales/ca/sonoma/95476/performers-love-of-asian-contemporary-2403730
PRIORITY:1
CLASS:PUBLIC
SEQUENCE:0
STATUS:CONFIRMED
TRANSP:OPAQUE
END:VEVENT
END:VCALENDAR
