BEGIN:VCALENDAR
VERSION:2.0
METHOD:PUBLISH
BEGIN:VEVENT
DTSTART:20240926T160000Z
DTEND:20240929T210000Z
LOCATION:Oakley, CA 94561
TRANSP: OPAQUE
SEQUENCE:0
UID:
DTSTAMP:20260419T054017Z
SUMMARY:Estate Sale in Oakley Ca, by Horizons LLC
DESCRIPTION:Estate Sale in Oakley Ca, by Horizons LLC Horizons Estate Sales LLC 
UID:1776598817
STREET-ADDRESS:See website
POSTAL-CODE:94561
LOCALITY:Oakley
REGION:ABBREV=CA
COUNTRY:ABBREV=US;ABBREV=USA:United States
URL;TYPE=Event Listing:https://estatesales.org/estate-sales/ca/oakley/94561/estate-sale-in-oakley-ca-2341337
PRIORITY:1
CLASS:PUBLIC
SEQUENCE:0
STATUS:CONFIRMED
TRANSP:OPAQUE
END:VEVENT
END:VCALENDAR
