BEGIN:VCALENDAR
VERSION:2.0
METHOD:PUBLISH
BEGIN:VEVENT
DTSTART:20250925T130000Z
DTEND:20250927T180000Z
LOCATION:Palm Coast, FL 32137
TRANSP: OPAQUE
SEQUENCE:0
UID:
DTSTAMP:20260425T102906Z
SUMMARY:Grasons St Johns & Flagler Counties 50% OFF Saturday Palm Coast **Read Details Please**
DESCRIPTION:Grasons St Johns & Flagler Counties 50% OFF Saturday Palm Coast **Read Details Please** Grasons Of St Johns & Flagler Counties 
UID:1777134546
STREET-ADDRESS:See website
POSTAL-CODE:32137
LOCALITY:Palm Coast
REGION:ABBREV=FL
COUNTRY:ABBREV=US;ABBREV=USA:United States
URL;TYPE=Event Listing:https://estatesales.org/estate-sales/fl/palm-coast/32137/grasons-st-johns-flagler-counties-2402480
PRIORITY:1
CLASS:PUBLIC
SEQUENCE:0
STATUS:CONFIRMED
TRANSP:OPAQUE
END:VEVENT
END:VCALENDAR
