BEGIN:VCALENDAR
VERSION:2.0
METHOD:PUBLISH
BEGIN:VEVENT
DTSTART:20250925T153000Z
DTEND:20250928T210000Z
LOCATION:Gilbert, AZ 85298
TRANSP: OPAQUE
SEQUENCE:0
UID:
DTSTAMP:20260424T125535Z
SUMMARY:Grasons of Gilbert & Phoenix 4 Day Estate Sale!
DESCRIPTION:Grasons of Gilbert & Phoenix 4 Day Estate Sale! Grasons of Gilbert, AZ 
UID:1777056935
STREET-ADDRESS:See website
POSTAL-CODE:85298
LOCALITY:Gilbert
REGION:ABBREV=AZ
COUNTRY:ABBREV=US;ABBREV=USA:United States
URL;TYPE=Event Listing:https://estatesales.org/estate-sales/az/gilbert/85298/grasons-of-gilbert-phoenix-4-2400327
PRIORITY:1
CLASS:PUBLIC
SEQUENCE:0
STATUS:CONFIRMED
TRANSP:OPAQUE
END:VEVENT
END:VCALENDAR
