BEGIN:VCALENDAR
VERSION:2.0
METHOD:PUBLISH
BEGIN:VEVENT
DTSTART:20210925T120000Z
DTEND:20210926T180000Z
LOCATION:Homer City, PA 15748
TRANSP: OPAQUE
SEQUENCE:0
UID:
DTSTAMP:20260419T082711Z
SUMMARY:Estate/Household Liquidation
DESCRIPTION:Estate/Household Liquidation Williams & Barron Estate Services LLC 
UID:1776608831
STREET-ADDRESS:See website
POSTAL-CODE:15748
LOCALITY:Homer City
REGION:ABBREV=PA
COUNTRY:ABBREV=US;ABBREV=USA:United States
URL;TYPE=Event Listing:https://estatesales.org/estate-sales/pa/homer-city/15748/estatehousehold-liquidation-1961103
PRIORITY:1
CLASS:PUBLIC
SEQUENCE:0
STATUS:CONFIRMED
TRANSP:OPAQUE
END:VEVENT
END:VCALENDAR
