BEGIN:VCALENDAR
VERSION:2.0
METHOD:PUBLISH
BEGIN:VEVENT
DTSTART:20200925T140000Z
DTEND:20200926T200000Z
LOCATION:Kankakee, IL 60901
TRANSP: OPAQUE
SEQUENCE:0
UID:
DTSTAMP:20260422T052458Z
SUMMARY:Cait's Vintage Kankakee Estate Sale - 50% OFF
DESCRIPTION:Cait's Vintage Kankakee Estate Sale - 50% OFF CAIT’S® Estate Sales & Emporium 
UID:1776857098
STREET-ADDRESS:See website
POSTAL-CODE:60901
LOCALITY:Kankakee
REGION:ABBREV=IL
COUNTRY:ABBREV=US;ABBREV=USA:United States
URL;TYPE=Event Listing:https://estatesales.org/estate-sales/il/kankakee/60901/caits-vintage-kankakee-estate-sale-1822121
PRIORITY:1
CLASS:PUBLIC
SEQUENCE:0
STATUS:CONFIRMED
TRANSP:OPAQUE
END:VEVENT
END:VCALENDAR
