BEGIN:VCALENDAR
VERSION:2.0
METHOD:PUBLISH
BEGIN:VEVENT
DTSTART:20200925T120000Z
DTEND:20200926T160000Z
LOCATION:Brooksville, FL 34601
TRANSP: OPAQUE
SEQUENCE:0
UID:
DTSTAMP:20260424T095226Z
SUMMARY:BROOKSVILLE BONANZA STARTS THE 25TH
DESCRIPTION:BROOKSVILLE BONANZA STARTS THE 25TH Treasure Hunter Estates 
UID:1777045946
STREET-ADDRESS:See website
POSTAL-CODE:34601
LOCALITY:Brooksville
REGION:ABBREV=FL
COUNTRY:ABBREV=US;ABBREV=USA:United States
URL;TYPE=Event Listing:https://estatesales.org/estate-sales/fl/brooksville/34601/brooksville-bonanza-starts-the-25th-1825867
PRIORITY:1
CLASS:PUBLIC
SEQUENCE:0
STATUS:CONFIRMED
TRANSP:OPAQUE
END:VEVENT
END:VCALENDAR
