BEGIN:VCALENDAR
VERSION:2.0
METHOD:PUBLISH
BEGIN:VEVENT
DTSTART:20200925T120000Z
DTEND:20200926T210000Z
LOCATION:Waxahachie, TX 75165
TRANSP: OPAQUE
SEQUENCE:0
UID:
DTSTAMP:20260422T100226Z
SUMMARY:Estate Sale! Waxahachie! by Annice Antiques
DESCRIPTION:Estate Sale! Waxahachie! by Annice Antiques Annice Antiques, Inc. 
UID:1776873746
STREET-ADDRESS:See website
POSTAL-CODE:75165
LOCALITY:Waxahachie
REGION:ABBREV=TX
COUNTRY:ABBREV=US;ABBREV=USA:United States
URL;TYPE=Event Listing:https://estatesales.org/estate-sales/tx/--waxahachie/75165/estate-sale-waxahachie-by-annice-1826279
PRIORITY:1
CLASS:PUBLIC
SEQUENCE:0
STATUS:CONFIRMED
TRANSP:OPAQUE
END:VEVENT
END:VCALENDAR
