BEGIN:VCALENDAR
VERSION:2.0
METHOD:PUBLISH
BEGIN:VEVENT
DTSTART:20150925T120000Z
DTEND:20150927T190000Z
LOCATION:Newbury, MA 01951
TRANSP: OPAQUE
SEQUENCE:0
UID:
DTSTAMP:20260421T094858Z
SUMMARY:Newbury Estate Sale
DESCRIPTION:Newbury Estate Sale Mill 77 Trading Company 
UID:1776786538
STREET-ADDRESS:See website
POSTAL-CODE:01951
LOCALITY:Newbury
REGION:ABBREV=MA
COUNTRY:ABBREV=US;ABBREV=USA:United States
URL;TYPE=Event Listing:https://estatesales.org/estate-sales/ma/newbury/01951/newbury-estate-sale-671637
PRIORITY:1
CLASS:PUBLIC
SEQUENCE:0
STATUS:CONFIRMED
TRANSP:OPAQUE
END:VEVENT
END:VCALENDAR
