BEGIN:VCALENDAR
VERSION:2.0
METHOD:PUBLISH
BEGIN:VEVENT
DTSTART:20250924T160000Z
DTEND:20250927T200000Z
LOCATION:Lake Forest, CA 92630
TRANSP: OPAQUE
SEQUENCE:0
UID:
DTSTAMP:20260425T171423Z
SUMMARY:Grasons Co Elite of South OC 3 Day Estate Sale in Lake Forest
DESCRIPTION:Grasons Co Elite of South OC 3 Day Estate Sale in Lake Forest Grasons Co of South Orange County 
UID:1777158863
STREET-ADDRESS:See website
POSTAL-CODE:92630
LOCALITY:Lake Forest
REGION:ABBREV=CA
COUNTRY:ABBREV=US;ABBREV=USA:United States
URL;TYPE=Event Listing:https://estatesales.org/estate-sales/ca/lake-forest/92630/grasons-co-elite-of-south-2400534
PRIORITY:1
CLASS:PUBLIC
SEQUENCE:0
STATUS:CONFIRMED
TRANSP:OPAQUE
END:VEVENT
END:VCALENDAR
