BEGIN:VCALENDAR
VERSION:2.0
METHOD:PUBLISH
BEGIN:VEVENT
DTSTART:20220924T150000Z
DTEND:20220925T200000Z
LOCATION:Rancho Cucamonga, CA 91739
TRANSP: OPAQUE
SEQUENCE:0
UID:
DTSTAMP:20260425T045050Z
SUMMARY:Small outdoor sale in Rancho Cucamonga by Next Step
DESCRIPTION:Small outdoor sale in Rancho Cucamonga by Next Step Next Step Estate Sales 
UID:1777114250
STREET-ADDRESS:See website
POSTAL-CODE:91739
LOCALITY:Rancho Cucamonga
REGION:ABBREV=CA
COUNTRY:ABBREV=US;ABBREV=USA:United States
URL;TYPE=Event Listing:https://estatesales.org/estate-sales/ca/rancho-cucamonga/91739/small-outdoor-sale-in-rancho-2100221
PRIORITY:1
CLASS:PUBLIC
SEQUENCE:0
STATUS:CONFIRMED
TRANSP:OPAQUE
END:VEVENT
END:VCALENDAR
