BEGIN:VCALENDAR
VERSION:2.0
METHOD:PUBLISH
BEGIN:VEVENT
DTSTART:20210924T170000Z
DTEND:20210926T210000Z
LOCATION:Pacific Grove, CA 93950
TRANSP: OPAQUE
SEQUENCE:0
UID:
DTSTAMP:20260421T115722Z
SUMMARY:Storybook Cottage Estate Sale
DESCRIPTION:Storybook Cottage Estate Sale A Move Made SImple 
UID:1776794242
STREET-ADDRESS:See website
POSTAL-CODE:93950
LOCALITY:Pacific Grove
REGION:ABBREV=CA
COUNTRY:ABBREV=US;ABBREV=USA:United States
URL;TYPE=Event Listing:https://estatesales.org/estate-sales/ca/pacific-grove/93950/storybook-cottage-estate-sale-1962215
PRIORITY:1
CLASS:PUBLIC
SEQUENCE:0
STATUS:CONFIRMED
TRANSP:OPAQUE
END:VEVENT
END:VCALENDAR
