BEGIN:VCALENDAR
VERSION:2.0
METHOD:PUBLISH
BEGIN:VEVENT
DTSTART:20200924T220000Z
DTEND:20200927T000000Z
LOCATION:Agoura Hills, CA 91301
TRANSP: OPAQUE
SEQUENCE:0
UID:
DTSTAMP:20260420T041251Z
SUMMARY:Manufacturers Sales Rep Sample Warehouse & Offices-Agoura Hills CA
DESCRIPTION:Manufacturers Sales Rep Sample Warehouse & Offices-Agoura Hills CA asal 
UID:1776679971
STREET-ADDRESS:See website
POSTAL-CODE:91301
LOCALITY:Agoura Hills
REGION:ABBREV=CA
COUNTRY:ABBREV=US;ABBREV=USA:United States
URL;TYPE=Event Listing:https://estatesales.org/estate-sales/ca/agoura-hills/91301/manufacturers-sales-rep-sample-warehouse-1827215
PRIORITY:1
CLASS:PUBLIC
SEQUENCE:0
STATUS:CONFIRMED
TRANSP:OPAQUE
END:VEVENT
END:VCALENDAR
