BEGIN:VCALENDAR
VERSION:2.0
METHOD:PUBLISH
BEGIN:VEVENT
DTSTART:20160924T130000Z
DTEND:20160925T210000Z
LOCATION:Columbus, NJ 08022
TRANSP: OPAQUE
SEQUENCE:0
UID:
DTSTAMP:20260420T080737Z
SUMMARY:Farm is sold the buildings are Busting! 
DESCRIPTION:Farm is sold the buildings are Busting!  Ageless Emporium  
UID:1776694057
STREET-ADDRESS:See website
POSTAL-CODE:08022
LOCALITY:Columbus
REGION:ABBREV=NJ
COUNTRY:ABBREV=US;ABBREV=USA:United States
URL;TYPE=Event Listing:https://estatesales.org/estate-sales/nj/columbus/08022/farm-is-sold-the-buildings-988347
PRIORITY:1
CLASS:PUBLIC
SEQUENCE:0
STATUS:CONFIRMED
TRANSP:OPAQUE
END:VEVENT
END:VCALENDAR
