BEGIN:VCALENDAR
VERSION:2.0
METHOD:PUBLISH
BEGIN:VEVENT
DTSTART:20110924T150000Z
DTEND:20110925T210000Z
LOCATION:Oklahoma City, OK 73112
TRANSP: OPAQUE
SEQUENCE:0
UID:
DTSTAMP:20260421T040800Z
SUMMARY:OKLAHOMA CITY ESTATE SALE
DESCRIPTION:OKLAHOMA CITY ESTATE SALE McNeil Liquidations -- Estate Sales & Appraisals 
UID:1776766080
STREET-ADDRESS:See website
POSTAL-CODE:73112
LOCALITY:Oklahoma City
REGION:ABBREV=OK
COUNTRY:ABBREV=US;ABBREV=USA:United States
URL;TYPE=Event Listing:https://estatesales.org/estate-sales/ok/oklahoma-city/73112/oklahoma-city-estate-sale-132447
PRIORITY:1
CLASS:PUBLIC
SEQUENCE:0
STATUS:CONFIRMED
TRANSP:OPAQUE
END:VEVENT
END:VCALENDAR
